BEGIN:VCALENDAR
VERSION:2.0
PRODID:-//mhaorangeny.com//NONSGML kigkonsult.se iCalcreator 2.30.10//
CALSCALE:GREGORIAN
METHOD:PUBLISH
UID:c8ecf01d-c81c-40a2-a6c7-b34961c6e390
X-WR-CALDESC:
X-WR-RELCALID:5fa41162d01642956026392e5e17d184
X-WR-TIMEZONE:America/Chicago
BEGIN:VTIMEZONE
TZID:America/Chicago
BEGIN:STANDARD
TZNAME:CST
DTSTART:20231105T020000
TZOFFSETFROM:-0500
TZOFFSETTO:-0600
RDATE:20241103T020000
RDATE:20251102T020000
END:STANDARD
BEGIN:DAYLIGHT
TZNAME:CDT
DTSTART:20240310T020000
TZOFFSETFROM:-0600
TZOFFSETTO:-0500
RDATE:20250309T020000
RDATE:20260308T020000
END:DAYLIGHT
END:VTIMEZONE
BEGIN:VEVENT
UID:d15a90fc-105a-4500-91c0-84a39280cea5
DTSTAMP:20260420T071043Z
DESCRIPTION:
DTSTART;TZID=America/Chicago:20241028T100000
DTEND;TZID=America/Chicago:20241028T130000
LOCATION:https://mhaorangeny.form-db.com/view.php?id=108607
SUMMARY:Empowering Awareness: Sexual Assault Prevention and Education Throu
 gh the Lens of Cultural Humility Webinar
END:VEVENT
END:VCALENDAR
