BEGIN:VCALENDAR
VERSION:2.0
PRODID:-//mhaorangeny.com//NONSGML kigkonsult.se iCalcreator 2.30.10//
CALSCALE:GREGORIAN
METHOD:PUBLISH
UID:926d0c19-f698-43b0-9983-839007383fd9
X-WR-CALDESC:Being part of this group means building a network with other f
 amilies who face similar challenges. Sharing experiences and advice can be
  a powerful way to feel heard and supported. Together\, we can help each o
 ther navigate the path to accessing OPWDD services.
X-WR-RELCALID:29d038e7b96944b52a8fcae7e6bd95bd
X-WR-TIMEZONE:America/Chicago
BEGIN:VTIMEZONE
TZID:America/Chicago
BEGIN:STANDARD
TZNAME:CST
DTSTART:20261101T020000
TZOFFSETFROM:-0500
TZOFFSETTO:-0600
RDATE:20271107T020000
END:STANDARD
BEGIN:DAYLIGHT
TZNAME:CDT
DTSTART:20270314T020000
TZOFFSETFROM:-0600
TZOFFSETTO:-0500
RDATE:20280312T020000
END:DAYLIGHT
END:VTIMEZONE
BEGIN:VEVENT
UID:7eb8c41c-41b3-43f7-93e9-d5b48f96c3e7
DTSTAMP:20260426T033533Z
DESCRIPTION:Being part of this group means building a network with other fa
 milies who face similar challenges. Sharing experiences and advice can be 
 a powerful way to feel heard and supported. Together\, we can help each ot
 her navigate the path to accessing OPWDD services.
DTSTART;TZID=America/Chicago:20270503T173000
DTEND;TZID=America/Chicago:20270503T183000
LOCATION:https://mhaorangeny.forms-db.com/view.php?id=121777
SUMMARY:OPWDD Family Support and Resource Group
END:VEVENT
END:VCALENDAR
