BEGIN:VCALENDAR
VERSION:2.0
PRODID:-//mhaorangeny.com//NONSGML kigkonsult.se iCalcreator 2.30.10//
CALSCALE:GREGORIAN
METHOD:PUBLISH
UID:4e3b10a2-8f1b-4fdc-91cc-174ca001113a
X-WR-CALDESC:Community Coalition.  Come join us as well as other agencies a
 nd individuals invested in the Middletown community
X-WR-RELCALID:a32abe5c73e433feaf33bd43b7f0599b
X-WR-TIMEZONE:America/Chicago
BEGIN:VTIMEZONE
TZID:America/Chicago
BEGIN:STANDARD
TZNAME:CST
DTSTART:20261101T020000
TZOFFSETFROM:-0500
TZOFFSETTO:-0600
RDATE:20271107T020000
END:STANDARD
BEGIN:DAYLIGHT
TZNAME:CDT
DTSTART:20270314T020000
TZOFFSETFROM:-0600
TZOFFSETTO:-0500
RDATE:20280312T020000
END:DAYLIGHT
END:VTIMEZONE
BEGIN:VEVENT
UID:8e36d12d-f4e0-4ba4-aa37-d293664c1534
DTSTAMP:20260426T013844Z
DESCRIPTION:Community Coalition.  Come join us as well as other agencies an
 d individuals invested in the Middletown community
DTSTART;TZID=America/Chicago:20270426T100000
DTEND;TZID=America/Chicago:20270426T120000
LOCATION:10 Depot Street\, Middletow\, NY 10940 US
SUMMARY:Middletown Cares
END:VEVENT
END:VCALENDAR
