BEGIN:VCALENDAR
VERSION:2.0
PRODID:-//mhaorangeny.com//NONSGML kigkonsult.se iCalcreator 2.30.10//
CALSCALE:GREGORIAN
METHOD:PUBLISH
UID:a18936be-5093-41ea-8276-7abb303d73b3
X-WR-CALDESC:
X-WR-RELCALID:a136d6e65573c1d7baeb39f88907542d
X-WR-TIMEZONE:America/Chicago
BEGIN:VTIMEZONE
TZID:America/Chicago
BEGIN:STANDARD
TZNAME:CST
DTSTART:20261101T020000
TZOFFSETFROM:-0500
TZOFFSETTO:-0600
RDATE:20271107T020000
END:STANDARD
BEGIN:DAYLIGHT
TZNAME:CDT
DTSTART:20270314T020000
TZOFFSETFROM:-0600
TZOFFSETTO:-0500
RDATE:20280312T020000
END:DAYLIGHT
END:VTIMEZONE
BEGIN:VEVENT
UID:26b94c88-b825-4b39-9368-6c7a919dd792
DTSTAMP:20260426T013815Z
DESCRIPTION:
DTSTART;TZID=America/Chicago:20270421T180000
DTEND;TZID=America/Chicago:20270421T190000
LOCATION:https://zoom.us/j/97383520523?pwd=LFtEy5
SUMMARY:Family Support Group (Virtual)
END:VEVENT
END:VCALENDAR
