BEGIN:VCALENDAR
VERSION:2.0
PRODID:-//mhaorangeny.com//NONSGML kigkonsult.se iCalcreator 2.30.10//
CALSCALE:GREGORIAN
METHOD:PUBLISH
UID:7f93b431-0cc3-44c6-9613-7fd17c4fc0df
X-WR-CALDESC:
X-WR-RELCALID:d57ab5d3122462b3a1fd99d22685e86d
X-WR-TIMEZONE:America/Chicago
BEGIN:VTIMEZONE
TZID:America/Chicago
BEGIN:STANDARD
TZNAME:CST
DTSTART:20261101T020000
TZOFFSETFROM:-0500
TZOFFSETTO:-0600
RDATE:20271107T020000
END:STANDARD
BEGIN:DAYLIGHT
TZNAME:CDT
DTSTART:20270314T020000
TZOFFSETFROM:-0600
TZOFFSETTO:-0500
RDATE:20280312T020000
END:DAYLIGHT
END:VTIMEZONE
BEGIN:VEVENT
UID:73a27c37-ab8e-42c6-b35a-d1845e9f5234
DTSTAMP:20260426T013815Z
DESCRIPTION:
DTSTART;TZID=America/Chicago:20270413T180000
DTEND;TZID=America/Chicago:20270413T193000
LOCATION:73 James P. Kelly Way\, Middletown\, NY 10940 US
SUMMARY:FIRST RESPONDER TRAUMA SUPPORT GROUP
END:VEVENT
END:VCALENDAR
