BEGIN:VCALENDAR
VERSION:2.0
PRODID:-//mhaorangeny.com//NONSGML kigkonsult.se iCalcreator 2.30.10//
CALSCALE:GREGORIAN
METHOD:PUBLISH
UID:9222b470-01af-4be2-bebe-05216c81f597
X-WR-CALDESC:Community Coalition.  Come join us as well as other agencies a
 nd individuals invested in the Middletown community
X-WR-RELCALID:8f99e654216fa565bae54a6f0e89e935
X-WR-TIMEZONE:America/Chicago
BEGIN:VTIMEZONE
TZID:America/Chicago
BEGIN:STANDARD
TZNAME:CST
DTSTART:20261101T020000
TZOFFSETFROM:-0500
TZOFFSETTO:-0600
RDATE:20271107T020000
END:STANDARD
BEGIN:DAYLIGHT
TZNAME:CDT
DTSTART:20270314T020000
TZOFFSETFROM:-0600
TZOFFSETTO:-0500
RDATE:20280312T020000
END:DAYLIGHT
END:VTIMEZONE
BEGIN:VEVENT
UID:59275cd3-d68d-4453-bd05-b08218707672
DTSTAMP:20260426T000122Z
DESCRIPTION:Community Coalition.  Come join us as well as other agencies an
 d individuals invested in the Middletown community
DTSTART;TZID=America/Chicago:20270322T100000
DTEND;TZID=America/Chicago:20270322T120000
LOCATION:10 Depot Street\, Middletow\, NY 10940 US
SUMMARY:Middletown Cares
END:VEVENT
END:VCALENDAR
