BEGIN:VCALENDAR
VERSION:2.0
PRODID:-//mhaorangeny.com//NONSGML kigkonsult.se iCalcreator 2.30.10//
CALSCALE:GREGORIAN
METHOD:PUBLISH
UID:01a0d43c-1bb5-440d-9bc8-7824e161d5c6
X-WR-CALDESC:We're at the Newburgh Free Library (NFL) every other Wednesday
  downstairs near the computers.  Come see us for information or to make a 
 referral and connect with services today.
X-WR-RELCALID:89a3113c4074183da66356d45c266801
X-WR-TIMEZONE:America/Chicago
BEGIN:VTIMEZONE
TZID:America/Chicago
BEGIN:STANDARD
TZNAME:CST
DTSTART:20261101T020000
TZOFFSETFROM:-0500
TZOFFSETTO:-0600
RDATE:20271107T020000
END:STANDARD
BEGIN:DAYLIGHT
TZNAME:CDT
DTSTART:20270314T020000
TZOFFSETFROM:-0600
TZOFFSETTO:-0500
RDATE:20280312T020000
END:DAYLIGHT
END:VTIMEZONE
BEGIN:VEVENT
UID:4730ac9f-a420-4092-b95f-b9d99dd677dc
DTSTAMP:20260426T000726Z
DESCRIPTION:We're at the Newburgh Free Library (NFL) every other Wednesday 
 downstairs near the computers.  Come see us for information or to make a r
 eferral and connect with services today.
DTSTART;TZID=America/Chicago:20270310T090000
DTEND;TZID=America/Chicago:20270310T140000
LOCATION:12 Grand Street`\, Newburgh\, NY 10940 US
SUMMARY:Newburgh Free Library Outreach
END:VEVENT
END:VCALENDAR
