BEGIN:VCALENDAR
VERSION:2.0
PRODID:-//mhaorangeny.com//NONSGML kigkonsult.se iCalcreator 2.30.10//
CALSCALE:GREGORIAN
METHOD:PUBLISH
UID:0fdc79d1-16d6-405e-9645-18f6cd95c36c
X-WR-CALDESC:Being part of this group means building a network with other f
 amilies who face similar challenges. Sharing experiences and advice can be
  a powerful way to feel heard and supported. Together\, we can help each o
 ther navigate the path to accessing OPWDD services.
X-WR-RELCALID:5f1da321a51bf79a1400df1ce7fddbfc
X-WR-TIMEZONE:America/Chicago
BEGIN:VTIMEZONE
TZID:America/Chicago
BEGIN:STANDARD
TZNAME:CST
DTSTART:20261101T020000
TZOFFSETFROM:-0500
TZOFFSETTO:-0600
RDATE:20271107T020000
END:STANDARD
BEGIN:DAYLIGHT
TZNAME:CDT
DTSTART:20260308T020000
TZOFFSETFROM:-0600
TZOFFSETTO:-0500
RDATE:20270314T020000
RDATE:20280312T020000
END:DAYLIGHT
END:VTIMEZONE
BEGIN:VEVENT
UID:d695ec83-52e3-40e2-a151-40d9c0d9fa6d
DTSTAMP:20260426T000618Z
DESCRIPTION:Being part of this group means building a network with other fa
 milies who face similar challenges. Sharing experiences and advice can be 
 a powerful way to feel heard and supported. Together\, we can help each ot
 her navigate the path to accessing OPWDD services.
DTSTART;TZID=America/Chicago:20270301T173000
DTEND;TZID=America/Chicago:20270301T183000
LOCATION:https://mhaorangeny.forms-db.com/view.php?id=121777
SUMMARY:OPWDD Family Support and Resource Group
END:VEVENT
END:VCALENDAR
