BEGIN:VCALENDAR
VERSION:2.0
PRODID:-//mhaorangeny.com//NONSGML kigkonsult.se iCalcreator 2.30.10//
CALSCALE:GREGORIAN
METHOD:PUBLISH
UID:7f39632a-679d-4190-92ee-89895616fbd3
X-WR-CALDESC:Community Coalition.  Come join us as well as other agencies a
 nd individuals invested in the Middletown community
X-WR-RELCALID:535d2ab9d706ac37fd8b799aa36eaf5d
X-WR-TIMEZONE:America/Chicago
BEGIN:VTIMEZONE
TZID:America/Chicago
BEGIN:STANDARD
TZNAME:CST
DTSTART:20261101T020000
TZOFFSETFROM:-0500
TZOFFSETTO:-0600
RDATE:20271107T020000
END:STANDARD
BEGIN:DAYLIGHT
TZNAME:CDT
DTSTART:20260308T020000
TZOFFSETFROM:-0600
TZOFFSETTO:-0500
RDATE:20270314T020000
RDATE:20280312T020000
END:DAYLIGHT
END:VTIMEZONE
BEGIN:VEVENT
UID:065e4be0-2a7b-41cf-968c-28ea612754de
DTSTAMP:20260425T223304Z
DESCRIPTION:Community Coalition.  Come join us as well as other agencies an
 d individuals invested in the Middletown community
DTSTART;TZID=America/Chicago:20270222T100000
DTEND;TZID=America/Chicago:20270222T120000
LOCATION:10 Depot Street\, Middletow\, NY 10940 US
SUMMARY:Middletown Cares
END:VEVENT
END:VCALENDAR
