BEGIN:VCALENDAR
VERSION:2.0
PRODID:-//mhaorangeny.com//NONSGML kigkonsult.se iCalcreator 2.30.10//
CALSCALE:GREGORIAN
METHOD:PUBLISH
UID:4e82eebf-9821-41e3-82e4-cb68d86bfdc8
X-WR-CALDESC:
X-WR-RELCALID:e5c28bdfc29f62c6395d0c511f5de115
X-WR-TIMEZONE:America/Chicago
BEGIN:VTIMEZONE
TZID:America/Chicago
BEGIN:STANDARD
TZNAME:CST
DTSTART:20261101T020000
TZOFFSETFROM:-0500
TZOFFSETTO:-0600
RDATE:20271107T020000
END:STANDARD
BEGIN:DAYLIGHT
TZNAME:CDT
DTSTART:20260308T020000
TZOFFSETFROM:-0600
TZOFFSETTO:-0500
RDATE:20270314T020000
RDATE:20280312T020000
END:DAYLIGHT
END:VTIMEZONE
BEGIN:VEVENT
UID:aaf0a41f-7b2b-4d78-94b5-e4cb1849a96d
DTSTAMP:20260425T224155Z
DESCRIPTION:
DTSTART;TZID=America/Chicago:20270217T180000
DTEND;TZID=America/Chicago:20270217T190000
LOCATION:https://zoom.us/j/97383520523?pwd=LFtEy5
SUMMARY:Family Support Group (Virtual)
END:VEVENT
END:VCALENDAR
