BEGIN:VCALENDAR
VERSION:2.0
PRODID:-//mhaorangeny.com//NONSGML kigkonsult.se iCalcreator 2.30.10//
CALSCALE:GREGORIAN
METHOD:PUBLISH
UID:88789ba1-d50b-412b-b387-072cb5458737
X-WR-CALDESC:Weekly gathering of Veterans at Gallery Billiards in Newburgh.
X-WR-RELCALID:a1cd4e958678dcf3a9a434675addcf1e
X-WR-TIMEZONE:America/Chicago
BEGIN:VTIMEZONE
TZID:America/Chicago
BEGIN:STANDARD
TZNAME:CST
DTSTART:20261101T020000
TZOFFSETFROM:-0500
TZOFFSETTO:-0600
RDATE:20271107T020000
END:STANDARD
BEGIN:DAYLIGHT
TZNAME:CDT
DTSTART:20260308T020000
TZOFFSETFROM:-0600
TZOFFSETTO:-0500
RDATE:20270314T020000
RDATE:20280312T020000
END:DAYLIGHT
END:VTIMEZONE
BEGIN:VEVENT
UID:11c5f0db-85f4-459b-bafd-1b80065b35b4
DTSTAMP:20260425T211354Z
DESCRIPTION:Weekly gathering of Veterans at Gallery Billiards in Newburgh.
DTSTART;TZID=America/Chicago:20270126T123000
DTEND;TZID=America/Chicago:20270126T140000
LOCATION:154 North Plank Road\, Newburgh\, NY 12550 US
SUMMARY:Vet2Vet Billiards
END:VEVENT
END:VCALENDAR
