BEGIN:VCALENDAR
VERSION:2.0
PRODID:-//mhaorangeny.com//NONSGML kigkonsult.se iCalcreator 2.30.10//
CALSCALE:GREGORIAN
METHOD:PUBLISH
UID:da95c84c-bdcf-4cde-87c6-560ebf5a1dde
X-WR-CALDESC:Community Coalition.  Come join us as well as other agencies a
 nd individuals invested in the Middletown community
X-WR-RELCALID:7520dfaa66158c768bccab7a3790a37f
X-WR-TIMEZONE:America/Chicago
BEGIN:VTIMEZONE
TZID:America/Chicago
BEGIN:STANDARD
TZNAME:CST
DTSTART:20261101T020000
TZOFFSETFROM:-0500
TZOFFSETTO:-0600
RDATE:20271107T020000
END:STANDARD
BEGIN:DAYLIGHT
TZNAME:CDT
DTSTART:20260308T020000
TZOFFSETFROM:-0600
TZOFFSETTO:-0500
RDATE:20270314T020000
RDATE:20280312T020000
END:DAYLIGHT
END:VTIMEZONE
BEGIN:VEVENT
UID:5552e1d4-3de2-4e34-9f5d-8d7f12667ab0
DTSTAMP:20260425T211043Z
DESCRIPTION:Community Coalition.  Come join us as well as other agencies an
 d individuals invested in the Middletown community
DTSTART;TZID=America/Chicago:20270125T100000
DTEND;TZID=America/Chicago:20270125T120000
LOCATION:10 Depot Street\, Middletow\, NY 10940 US
SUMMARY:Middletown Cares
END:VEVENT
END:VCALENDAR
