BEGIN:VCALENDAR
VERSION:2.0
PRODID:-//mhaorangeny.com//NONSGML kigkonsult.se iCalcreator 2.30.10//
CALSCALE:GREGORIAN
METHOD:PUBLISH
UID:6e9ef207-ed0b-4c0d-83a7-07dc9814e580
X-WR-CALDESC:
X-WR-RELCALID:aa6755b1aa876d6ad55d2f27baaa98f2
X-WR-TIMEZONE:America/Chicago
BEGIN:VTIMEZONE
TZID:America/Chicago
BEGIN:STANDARD
TZNAME:CST
DTSTART:20261101T020000
TZOFFSETFROM:-0500
TZOFFSETTO:-0600
RDATE:20271107T020000
END:STANDARD
BEGIN:DAYLIGHT
TZNAME:CDT
DTSTART:20260308T020000
TZOFFSETFROM:-0600
TZOFFSETTO:-0500
RDATE:20270314T020000
RDATE:20280312T020000
END:DAYLIGHT
END:VTIMEZONE
BEGIN:VEVENT
UID:96d4a65d-9067-4bf2-aed8-29f5019e6c93
DTSTAMP:20260425T204809Z
DESCRIPTION:
DTSTART;TZID=America/Chicago:20270120T180000
DTEND;TZID=America/Chicago:20270120T190000
LOCATION:https://zoom.us/j/97383520523?pwd=LFtEy5
SUMMARY:Family Support Group (Virtual)
END:VEVENT
END:VCALENDAR
