BEGIN:VCALENDAR
VERSION:2.0
PRODID:-//mhaorangeny.com//NONSGML kigkonsult.se iCalcreator 2.30.10//
CALSCALE:GREGORIAN
METHOD:PUBLISH
UID:6e635c47-81b6-4bf4-95f2-612e49ff88fe
X-WR-CALDESC:
X-WR-RELCALID:1c8fe2eeca2898855879e2d20adf1789
X-WR-TIMEZONE:America/Chicago
BEGIN:VTIMEZONE
TZID:America/Chicago
BEGIN:STANDARD
TZNAME:CST
DTSTART:20261101T020000
TZOFFSETFROM:-0500
TZOFFSETTO:-0600
RDATE:20271107T020000
END:STANDARD
BEGIN:DAYLIGHT
TZNAME:CDT
DTSTART:20260308T020000
TZOFFSETFROM:-0600
TZOFFSETTO:-0500
RDATE:20270314T020000
RDATE:20280312T020000
END:DAYLIGHT
END:VTIMEZONE
BEGIN:VEVENT
UID:13fa88af-995f-482d-84a3-25dd96e2b908
DTSTAMP:20260425T204854Z
DESCRIPTION:
DTSTART;TZID=America/Chicago:20270112T180000
DTEND;TZID=America/Chicago:20270112T193000
LOCATION:73 James P. Kelly Way\, Middletown\, NY 10940 US
SUMMARY:FIRST RESPONDER TRAUMA SUPPORT GROUP
END:VEVENT
END:VCALENDAR
