BEGIN:VCALENDAR
VERSION:2.0
PRODID:-//mhaorangeny.com//NONSGML kigkonsult.se iCalcreator 2.30.10//
CALSCALE:GREGORIAN
METHOD:PUBLISH
UID:5aea1311-6113-464b-8578-2052cacdf6a5
X-WR-CALDESC:We're at the Newburgh Free Library (NFL) every other Wednesday
  downstairs near the computers.  Come see us for information or to make a 
 referral and connect with services today.
X-WR-RELCALID:723eed5fd5d65d1deb1eb7780140903a
X-WR-TIMEZONE:America/Chicago
BEGIN:VTIMEZONE
TZID:America/Chicago
BEGIN:STANDARD
TZNAME:CST
DTSTART:20261101T020000
TZOFFSETFROM:-0500
TZOFFSETTO:-0600
RDATE:20271107T020000
END:STANDARD
BEGIN:DAYLIGHT
TZNAME:CDT
DTSTART:20260308T020000
TZOFFSETFROM:-0600
TZOFFSETTO:-0500
RDATE:20270314T020000
RDATE:20280312T020000
END:DAYLIGHT
END:VTIMEZONE
BEGIN:VEVENT
UID:bee60d37-0742-40df-ab1e-38440d677b59
DTSTAMP:20260425T193054Z
DESCRIPTION:We're at the Newburgh Free Library (NFL) every other Wednesday 
 downstairs near the computers.  Come see us for information or to make a r
 eferral and connect with services today.
DTSTART;TZID=America/Chicago:20261230T090000
DTEND;TZID=America/Chicago:20261230T140000
LOCATION:12 Grand Street`\, Newburgh\, NY 10940 US
SUMMARY:Newburgh Free Library Outreach
END:VEVENT
END:VCALENDAR
