BEGIN:VCALENDAR
VERSION:2.0
PRODID:-//mhaorangeny.com//NONSGML kigkonsult.se iCalcreator 2.30.10//
CALSCALE:GREGORIAN
METHOD:PUBLISH
UID:fa7b50fb-e1e2-4fe3-9744-8a6e23bbda02
X-WR-CALDESC:
X-WR-RELCALID:05a91f85d3669e4ab7a3e2236c6850cd
X-WR-TIMEZONE:America/Chicago
BEGIN:VTIMEZONE
TZID:America/Chicago
BEGIN:STANDARD
TZNAME:CST
DTSTART:20261101T020000
TZOFFSETFROM:-0500
TZOFFSETTO:-0600
RDATE:20271107T020000
END:STANDARD
BEGIN:DAYLIGHT
TZNAME:CDT
DTSTART:20260308T020000
TZOFFSETFROM:-0600
TZOFFSETTO:-0500
RDATE:20270314T020000
RDATE:20280312T020000
END:DAYLIGHT
END:VTIMEZONE
BEGIN:VEVENT
UID:d4031c14-c25a-4620-9ec1-0e32a165a82b
DTSTAMP:20260425T174335Z
DESCRIPTION:
DTSTART;TZID=America/Chicago:20261118T180000
DTEND;TZID=America/Chicago:20261118T190000
LOCATION:https://zoom.us/j/97383520523?pwd=LFtEy5
SUMMARY:Family Support Group (Virtual)
END:VEVENT
END:VCALENDAR
