BEGIN:VCALENDAR
VERSION:2.0
PRODID:-//mhaorangeny.com//NONSGML kigkonsult.se iCalcreator 2.30.10//
CALSCALE:GREGORIAN
METHOD:PUBLISH
UID:894d0501-4844-4a50-b59f-3fcbe2b1b76f
X-WR-CALDESC:We're at the Newburgh Free Library (NFL) every other Wednesday
  downstairs near the computers.  Come see us for information or to make a 
 referral and connect with services today.
X-WR-RELCALID:975b197a2a22312d570c56606ed8a682
X-WR-TIMEZONE:America/Chicago
BEGIN:VTIMEZONE
TZID:America/Chicago
BEGIN:STANDARD
TZNAME:CST
DTSTART:20261101T020000
TZOFFSETFROM:-0500
TZOFFSETTO:-0600
RDATE:20271107T020000
END:STANDARD
BEGIN:DAYLIGHT
TZNAME:CDT
DTSTART:20260308T020000
TZOFFSETFROM:-0600
TZOFFSETTO:-0500
RDATE:20270314T020000
RDATE:20280312T020000
END:DAYLIGHT
END:VTIMEZONE
BEGIN:VEVENT
UID:48228aa9-476c-46e7-b8a3-adf5b4dcde8a
DTSTAMP:20260425T174925Z
DESCRIPTION:We're at the Newburgh Free Library (NFL) every other Wednesday 
 downstairs near the computers.  Come see us for information or to make a r
 eferral and connect with services today.
DTSTART;TZID=America/Chicago:20261118T090000
DTEND;TZID=America/Chicago:20261118T140000
LOCATION:12 Grand Street`\, Newburgh\, NY 10940 US
SUMMARY:Newburgh Free Library Outreach
END:VEVENT
END:VCALENDAR
