BEGIN:VCALENDAR
VERSION:2.0
PRODID:-//mhaorangeny.com//NONSGML kigkonsult.se iCalcreator 2.30.10//
CALSCALE:GREGORIAN
METHOD:PUBLISH
UID:4b809cbd-eb5d-44a3-bb5a-516bd1b0959f
X-WR-CALDESC:
X-WR-RELCALID:56ab930d30ad1439a691863b28fc00fb
X-WR-TIMEZONE:America/Chicago
BEGIN:VTIMEZONE
TZID:America/Chicago
BEGIN:STANDARD
TZNAME:CST
DTSTART:20261101T020000
TZOFFSETFROM:-0500
TZOFFSETTO:-0600
RDATE:20271107T020000
END:STANDARD
BEGIN:DAYLIGHT
TZNAME:CDT
DTSTART:20260308T020000
TZOFFSETFROM:-0600
TZOFFSETTO:-0500
RDATE:20270314T020000
RDATE:20280312T020000
END:DAYLIGHT
END:VTIMEZONE
BEGIN:VEVENT
UID:02c1a0c0-7fa6-40a4-9b4b-312e61ff26e2
DTSTAMP:20260425T174318Z
DESCRIPTION:
DTSTART;TZID=America/Chicago:20261110T180000
DTEND;TZID=America/Chicago:20261110T193000
LOCATION:73 James P. Kelly Way\, Middletown\, NY 10940 US
SUMMARY:FIRST RESPONDER TRAUMA SUPPORT GROUP
END:VEVENT
END:VCALENDAR
