BEGIN:VCALENDAR
VERSION:2.0
PRODID:-//mhaorangeny.com//NONSGML kigkonsult.se iCalcreator 2.30.10//
CALSCALE:GREGORIAN
METHOD:PUBLISH
UID:061e5f11-cd8b-45d9-ae6a-22e3b8a4deea
X-WR-CALDESC:
X-WR-RELCALID:b4b5e97fb5da16dd9aaabbe21afaba9f
X-WR-TIMEZONE:America/Chicago
BEGIN:VTIMEZONE
TZID:America/Chicago
BEGIN:STANDARD
TZNAME:CST
DTSTART:20251102T020000
TZOFFSETFROM:-0500
TZOFFSETTO:-0600
RDATE:20261101T020000
RDATE:20271107T020000
END:STANDARD
BEGIN:DAYLIGHT
TZNAME:CDT
DTSTART:20260308T020000
TZOFFSETFROM:-0600
TZOFFSETTO:-0500
RDATE:20270314T020000
RDATE:20280312T020000
END:DAYLIGHT
END:VTIMEZONE
BEGIN:VEVENT
UID:f2ee3b72-0c22-496e-b27b-3179aea5aa30
DTSTAMP:20260425T161221Z
DESCRIPTION:
DTSTART;TZID=America/Chicago:20261026T110000
DTEND;TZID=America/Chicago:20261026T120000
LOCATION:Zoom
SUMMARY:Military Sexual Trauma (MST) Support Group
END:VEVENT
END:VCALENDAR
