BEGIN:VCALENDAR
VERSION:2.0
PRODID:-//mhaorangeny.com//NONSGML kigkonsult.se iCalcreator 2.30.10//
CALSCALE:GREGORIAN
METHOD:PUBLISH
UID:d188edec-e68d-4c3c-b13a-0075b790dda3
X-WR-CALDESC:Community Coalition.  Come join us as well as other agencies a
 nd individuals invested in the Middletown community
X-WR-RELCALID:c2b0532a96211e398970131125fcada9
X-WR-TIMEZONE:America/Chicago
BEGIN:VTIMEZONE
TZID:America/Chicago
BEGIN:STANDARD
TZNAME:CST
DTSTART:20251102T020000
TZOFFSETFROM:-0500
TZOFFSETTO:-0600
RDATE:20261101T020000
RDATE:20271107T020000
END:STANDARD
BEGIN:DAYLIGHT
TZNAME:CDT
DTSTART:20260308T020000
TZOFFSETFROM:-0600
TZOFFSETTO:-0500
RDATE:20270314T020000
RDATE:20280312T020000
END:DAYLIGHT
END:VTIMEZONE
BEGIN:VEVENT
UID:af273800-95c8-4fc8-9ad5-7eb24a06dacb
DTSTAMP:20260425T162244Z
DESCRIPTION:Community Coalition.  Come join us as well as other agencies an
 d individuals invested in the Middletown community
DTSTART;TZID=America/Chicago:20261026T100000
DTEND;TZID=America/Chicago:20261026T120000
LOCATION:10 Depot Street\, Middletow\, NY 10940 US
SUMMARY:Middletown Cares
END:VEVENT
END:VCALENDAR
