BEGIN:VCALENDAR
VERSION:2.0
PRODID:-//mhaorangeny.com//NONSGML kigkonsult.se iCalcreator 2.30.10//
CALSCALE:GREGORIAN
METHOD:PUBLISH
UID:7c85de4f-533b-4a8b-932a-dee684bc73a8
X-WR-CALDESC:We're at the Newburgh Free Library (NFL) every other Wednesday
  downstairs near the computers.  Come see us for information or to make a 
 referral and connect with services today.
X-WR-RELCALID:9db14368b3f5c7b35df076698dc247c8
X-WR-TIMEZONE:America/Chicago
BEGIN:VTIMEZONE
TZID:America/Chicago
BEGIN:STANDARD
TZNAME:CST
DTSTART:20251102T020000
TZOFFSETFROM:-0500
TZOFFSETTO:-0600
RDATE:20261101T020000
RDATE:20271107T020000
END:STANDARD
BEGIN:DAYLIGHT
TZNAME:CDT
DTSTART:20260308T020000
TZOFFSETFROM:-0600
TZOFFSETTO:-0500
RDATE:20270314T020000
RDATE:20280312T020000
END:DAYLIGHT
END:VTIMEZONE
BEGIN:VEVENT
UID:ffe6a95a-1281-4fce-96b5-017d08827c41
DTSTAMP:20260425T162300Z
DESCRIPTION:We're at the Newburgh Free Library (NFL) every other Wednesday 
 downstairs near the computers.  Come see us for information or to make a r
 eferral and connect with services today.
DTSTART;TZID=America/Chicago:20261007T090000
DTEND;TZID=America/Chicago:20261007T140000
LOCATION:12 Grand Street`\, Newburgh\, NY 10940 US
SUMMARY:Newburgh Free Library Outreach
END:VEVENT
END:VCALENDAR
