BEGIN:VCALENDAR
VERSION:2.0
PRODID:-//mhaorangeny.com//NONSGML kigkonsult.se iCalcreator 2.30.10//
CALSCALE:GREGORIAN
METHOD:PUBLISH
UID:766f6e17-ae36-49a4-9994-b12446aedc79
X-WR-CALDESC:
X-WR-RELCALID:b826dc57b59721dddb03a9809a5f0e91
X-WR-TIMEZONE:America/Chicago
BEGIN:VTIMEZONE
TZID:America/Chicago
BEGIN:STANDARD
TZNAME:CST
DTSTART:20251102T020000
TZOFFSETFROM:-0500
TZOFFSETTO:-0600
RDATE:20261101T020000
RDATE:20271107T020000
END:STANDARD
BEGIN:DAYLIGHT
TZNAME:CDT
DTSTART:20260308T020000
TZOFFSETFROM:-0600
TZOFFSETTO:-0500
RDATE:20270314T020000
RDATE:20280312T020000
END:DAYLIGHT
END:VTIMEZONE
BEGIN:VEVENT
UID:617330d4-3b58-4d6d-bae1-b2edd84e5e7b
DTSTAMP:20260425T142809Z
DESCRIPTION:
DTSTART;TZID=America/Chicago:20260916T180000
DTEND;TZID=America/Chicago:20260916T190000
LOCATION:https://zoom.us/j/97383520523?pwd=LFtEy5
SUMMARY:Family Support Group (Virtual)
END:VEVENT
END:VCALENDAR
