BEGIN:VCALENDAR
VERSION:2.0
PRODID:-//mhaorangeny.com//NONSGML kigkonsult.se iCalcreator 2.30.10//
CALSCALE:GREGORIAN
METHOD:PUBLISH
UID:acf15365-82e7-4a17-b12a-9fa776fe5eba
X-WR-CALDESC:
X-WR-RELCALID:bfcbdebf08c44c5b1001073271d2ad2c
X-WR-TIMEZONE:America/Chicago
BEGIN:VTIMEZONE
TZID:America/Chicago
BEGIN:STANDARD
TZNAME:CST
DTSTART:20251102T020000
TZOFFSETFROM:-0500
TZOFFSETTO:-0600
RDATE:20261101T020000
RDATE:20271107T020000
END:STANDARD
BEGIN:DAYLIGHT
TZNAME:CDT
DTSTART:20260308T020000
TZOFFSETFROM:-0600
TZOFFSETTO:-0500
RDATE:20270314T020000
END:DAYLIGHT
END:VTIMEZONE
BEGIN:VEVENT
UID:cd00c761-b89d-4b57-903f-dfc58f6c8dd1
DTSTAMP:20260425T123631Z
DESCRIPTION:
DTSTART;TZID=America/Chicago:20260831T110000
DTEND;TZID=America/Chicago:20260831T120000
LOCATION:Zoom
SUMMARY:Military Sexual Trauma (MST) Support Group
END:VEVENT
END:VCALENDAR
