BEGIN:VCALENDAR
VERSION:2.0
PRODID:-//mhaorangeny.com//NONSGML kigkonsult.se iCalcreator 2.30.10//
CALSCALE:GREGORIAN
METHOD:PUBLISH
UID:94703acd-2a07-428a-8ae6-6cb8d53d18f4
X-WR-CALDESC:
X-WR-RELCALID:8623f23551daf02da81809b5e8408bb3
X-WR-TIMEZONE:America/Chicago
BEGIN:VTIMEZONE
TZID:America/Chicago
BEGIN:STANDARD
TZNAME:CST
DTSTART:20251102T020000
TZOFFSETFROM:-0500
TZOFFSETTO:-0600
RDATE:20261101T020000
RDATE:20271107T020000
END:STANDARD
BEGIN:DAYLIGHT
TZNAME:CDT
DTSTART:20260308T020000
TZOFFSETFROM:-0600
TZOFFSETTO:-0500
RDATE:20270314T020000
END:DAYLIGHT
END:VTIMEZONE
BEGIN:VEVENT
UID:0df4aab6-78a4-4e1d-8587-793b5d1a2a3a
DTSTAMP:20260425T123244Z
DESCRIPTION:
DTSTART;TZID=America/Chicago:20260811T180000
DTEND;TZID=America/Chicago:20260811T193000
LOCATION:73 James P. Kelly Way\, Middletown\, NY 10940 US
SUMMARY:FIRST RESPONDER TRAUMA SUPPORT GROUP
END:VEVENT
END:VCALENDAR
