BEGIN:VCALENDAR
VERSION:2.0
PRODID:-//mhaorangeny.com//NONSGML kigkonsult.se iCalcreator 2.30.10//
CALSCALE:GREGORIAN
METHOD:PUBLISH
UID:04c2e8d7-73bf-4cf3-9e87-2c9d4a6b2e60
X-WR-CALDESC:Being part of this group means building a network with other f
 amilies who face similar challenges. Sharing experiences and advice can be
  a powerful way to feel heard and supported. Together\, we can help each o
 ther navigate the path to accessing OPWDD services.
X-WR-RELCALID:9c7c750ea423cdf69e06e51e5b8e26e6
X-WR-TIMEZONE:America/Chicago
BEGIN:VTIMEZONE
TZID:America/Chicago
BEGIN:STANDARD
TZNAME:CST
DTSTART:20251102T020000
TZOFFSETFROM:-0500
TZOFFSETTO:-0600
RDATE:20261101T020000
RDATE:20271107T020000
END:STANDARD
BEGIN:DAYLIGHT
TZNAME:CDT
DTSTART:20260308T020000
TZOFFSETFROM:-0600
TZOFFSETTO:-0500
RDATE:20270314T020000
END:DAYLIGHT
END:VTIMEZONE
BEGIN:VEVENT
UID:62233358-d71b-42a5-badd-a85a9c98d7e0
DTSTAMP:20260425T123449Z
DESCRIPTION:Being part of this group means building a network with other fa
 milies who face similar challenges. Sharing experiences and advice can be 
 a powerful way to feel heard and supported. Together\, we can help each ot
 her navigate the path to accessing OPWDD services.
DTSTART;TZID=America/Chicago:20260803T173000
DTEND;TZID=America/Chicago:20260803T183000
LOCATION:https://mhaorangeny.forms-db.com/view.php?id=121777
SUMMARY:OPWDD Family Support and Resource Group
END:VEVENT
END:VCALENDAR
