BEGIN:VCALENDAR
VERSION:2.0
PRODID:-//mhaorangeny.com//NONSGML kigkonsult.se iCalcreator 2.30.10//
CALSCALE:GREGORIAN
METHOD:PUBLISH
UID:ab53a105-cad8-49f7-89cd-f00bd3e0b978
X-WR-CALDESC:We're at the Newburgh Free Library (NFL) every other Wednesday
  downstairs near the computers.  Come see us for information or to make a 
 referral and connect with services today.
X-WR-RELCALID:d2725319f7cab57191bb027e92bbc9d5
X-WR-TIMEZONE:America/Chicago
BEGIN:VTIMEZONE
TZID:America/Chicago
BEGIN:STANDARD
TZNAME:CST
DTSTART:20251102T020000
TZOFFSETFROM:-0500
TZOFFSETTO:-0600
RDATE:20261101T020000
RDATE:20271107T020000
END:STANDARD
BEGIN:DAYLIGHT
TZNAME:CDT
DTSTART:20260308T020000
TZOFFSETFROM:-0600
TZOFFSETTO:-0500
RDATE:20270314T020000
END:DAYLIGHT
END:VTIMEZONE
BEGIN:VEVENT
UID:d1a558ca-9004-4abe-8fc2-4601244f454f
DTSTAMP:20260425T110301Z
DESCRIPTION:We're at the Newburgh Free Library (NFL) every other Wednesday 
 downstairs near the computers.  Come see us for information or to make a r
 eferral and connect with services today.
DTSTART;TZID=America/Chicago:20260729T090000
DTEND;TZID=America/Chicago:20260729T140000
LOCATION:12 Grand Street`\, Newburgh\, NY 10940 US
SUMMARY:Newburgh Free Library Outreach
END:VEVENT
END:VCALENDAR
