BEGIN:VCALENDAR
VERSION:2.0
PRODID:-//mhaorangeny.com//NONSGML kigkonsult.se iCalcreator 2.30.10//
CALSCALE:GREGORIAN
METHOD:PUBLISH
UID:4d6374b4-c291-4ef5-9600-00d139b788bd
X-WR-CALDESC:
X-WR-RELCALID:3b1458dd1062fdb695237261cc50caab
X-WR-TIMEZONE:America/Chicago
BEGIN:VTIMEZONE
TZID:America/Chicago
BEGIN:STANDARD
TZNAME:CST
DTSTART:20251102T020000
TZOFFSETFROM:-0500
TZOFFSETTO:-0600
RDATE:20261101T020000
RDATE:20271107T020000
END:STANDARD
BEGIN:DAYLIGHT
TZNAME:CDT
DTSTART:20260308T020000
TZOFFSETFROM:-0600
TZOFFSETTO:-0500
RDATE:20270314T020000
END:DAYLIGHT
END:VTIMEZONE
BEGIN:VEVENT
UID:503fe368-7f99-401c-87a4-8b4e0f5ed50c
DTSTAMP:20260425T110011Z
DESCRIPTION:
DTSTART;TZID=America/Chicago:20260727T110000
DTEND;TZID=America/Chicago:20260727T120000
LOCATION:Zoom
SUMMARY:Military Sexual Trauma (MST) Support Group
END:VEVENT
END:VCALENDAR
