BEGIN:VCALENDAR
VERSION:2.0
PRODID:-//mhaorangeny.com//NONSGML kigkonsult.se iCalcreator 2.30.10//
CALSCALE:GREGORIAN
METHOD:PUBLISH
UID:eeb577e5-96b9-48b8-93f2-b8b6b5ba992f
X-WR-CALDESC:
X-WR-RELCALID:59306e9fbce0d1acfe8e3e2b0310a278
X-WR-TIMEZONE:America/Chicago
BEGIN:VTIMEZONE
TZID:America/Chicago
BEGIN:STANDARD
TZNAME:CST
DTSTART:20251102T020000
TZOFFSETFROM:-0500
TZOFFSETTO:-0600
RDATE:20261101T020000
RDATE:20271107T020000
END:STANDARD
BEGIN:DAYLIGHT
TZNAME:CDT
DTSTART:20260308T020000
TZOFFSETFROM:-0600
TZOFFSETTO:-0500
RDATE:20270314T020000
END:DAYLIGHT
END:VTIMEZONE
BEGIN:VEVENT
UID:5273bd43-133b-4259-b990-26583c5c4998
DTSTAMP:20260425T105521Z
DESCRIPTION:
DTSTART;TZID=America/Chicago:20260714T180000
DTEND;TZID=America/Chicago:20260714T193000
LOCATION:73 James P. Kelly Way\, Middletown\, NY 10940 US
SUMMARY:FIRST RESPONDER TRAUMA SUPPORT GROUP
END:VEVENT
END:VCALENDAR
