BEGIN:VCALENDAR
VERSION:2.0
PRODID:-//mhaorangeny.com//NONSGML kigkonsult.se iCalcreator 2.30.10//
CALSCALE:GREGORIAN
METHOD:PUBLISH
UID:5546aed2-ce01-44ea-8f6a-d4d1591103e7
X-WR-CALDESC:Being part of this group means building a network with other f
 amilies who face similar challenges. Sharing experiences and advice can be
  a powerful way to feel heard and supported. Together\, we can help each o
 ther navigate the path to accessing OPWDD services.
X-WR-RELCALID:558dd366a4d9c467596c60e3c57b197d
X-WR-TIMEZONE:America/Chicago
BEGIN:VTIMEZONE
TZID:America/Chicago
BEGIN:STANDARD
TZNAME:CST
DTSTART:20251102T020000
TZOFFSETFROM:-0500
TZOFFSETTO:-0600
RDATE:20261101T020000
RDATE:20271107T020000
END:STANDARD
BEGIN:DAYLIGHT
TZNAME:CDT
DTSTART:20260308T020000
TZOFFSETFROM:-0600
TZOFFSETTO:-0500
RDATE:20270314T020000
END:DAYLIGHT
END:VTIMEZONE
BEGIN:VEVENT
UID:6381cb07-16ac-4e5e-aacd-dbe018d6d35b
DTSTAMP:20260425T105838Z
DESCRIPTION:Being part of this group means building a network with other fa
 milies who face similar challenges. Sharing experiences and advice can be 
 a powerful way to feel heard and supported. Together\, we can help each ot
 her navigate the path to accessing OPWDD services.
DTSTART;TZID=America/Chicago:20260706T173000
DTEND;TZID=America/Chicago:20260706T183000
LOCATION:https://mhaorangeny.forms-db.com/view.php?id=121777
SUMMARY:OPWDD Family Support and Resource Group
END:VEVENT
END:VCALENDAR
