BEGIN:VCALENDAR
VERSION:2.0
PRODID:-//mhaorangeny.com//NONSGML kigkonsult.se iCalcreator 2.30.10//
CALSCALE:GREGORIAN
METHOD:PUBLISH
UID:31ddf988-75a9-4f6c-8b9f-9ed55b3b5390
X-WR-CALDESC:Veteran Writers Workshop every 2nd and 4th Wednesday of the mo
 nth at Cornerstone.  Call Bryon for more information.
X-WR-RELCALID:bef6c4fb8d67c96770237b839eec903c
X-WR-TIMEZONE:America/New_York
BEGIN:VTIMEZONE
TZID:America/New_York
BEGIN:STANDARD
TZNAME:EST
DTSTART:20251102T020000
TZOFFSETFROM:-0400
TZOFFSETTO:-0500
RDATE:20261101T020000
RDATE:20271107T020000
END:STANDARD
BEGIN:DAYLIGHT
TZNAME:EDT
DTSTART:20260308T020000
TZOFFSETFROM:-0500
TZOFFSETTO:-0400
RDATE:20270314T020000
END:DAYLIGHT
END:VTIMEZONE
BEGIN:VEVENT
UID:60c6de1b-844f-4fb7-a8c5-857ca5da9d43
DTSTAMP:20260423T110325Z
DESCRIPTION:Veteran Writers Workshop every 2nd and 4th Wednesday of the mon
 th at Cornerstone.  Call Bryon for more information.
DTSTART;TZID=America/New_York:20260513T180000
DTEND;TZID=America/New_York:20260513T180000
LOCATION:111 Broadway \, Newburgh \, NY 12550 US
SUMMARY:Veteran Writers Workshop
END:VEVENT
END:VCALENDAR
