BEGIN:VCALENDAR
VERSION:2.0
PRODID:-//mhaorangeny.com//NONSGML kigkonsult.se iCalcreator 2.30.10//
CALSCALE:GREGORIAN
METHOD:PUBLISH
UID:f3b10815-e141-4087-a439-7fe77b933e69
X-WR-CALDESC:Veteran Taichi/Qigong at Cornerstone on the 1st and 3rd Wednes
 day of each month.
X-WR-RELCALID:cc7c72cf81a3244ed8ddbb7f5897e7cc
X-WR-TIMEZONE:America/Chicago
BEGIN:VTIMEZONE
TZID:America/Chicago
BEGIN:STANDARD
TZNAME:CST
DTSTART:20251102T020000
TZOFFSETFROM:-0500
TZOFFSETTO:-0600
RDATE:20261101T020000
END:STANDARD
BEGIN:DAYLIGHT
TZNAME:CDT
DTSTART:20260308T020000
TZOFFSETFROM:-0600
TZOFFSETTO:-0500
RDATE:20270314T020000
END:DAYLIGHT
END:VTIMEZONE
BEGIN:VEVENT
UID:68e01272-f2bb-40e8-9f91-f24354c42d80
DTSTAMP:20260422T101719Z
DESCRIPTION:Veteran Taichi/Qigong at Cornerstone on the 1st and 3rd Wednesd
 ay of each month.
DTSTART;TZID=America/Chicago:20260506T180000
DTEND;TZID=America/Chicago:20260506T180000
LOCATION:111 Broadway Newburgh\, Newburgh\, NY 12550 US
SUMMARY:Vet2Vet Taichi/Qigong
END:VEVENT
END:VCALENDAR
