BEGIN:VCALENDAR
VERSION:2.0
PRODID:-//mhaorangeny.com//NONSGML kigkonsult.se iCalcreator 2.30.10//
CALSCALE:GREGORIAN
METHOD:PUBLISH
UID:5d4f09ad-b225-4319-96f0-5058a93413ce
X-WR-CALDESC:Vet2Vet Meeting and Movie Night every Thursday contact Bryon f
 or more information.
X-WR-RELCALID:91a14eabef7c4c11402700dfb9e41af7
X-WR-TIMEZONE:America/Chicago
BEGIN:VTIMEZONE
TZID:America/Chicago
BEGIN:STANDARD
TZNAME:CST
DTSTART:20251102T020000
TZOFFSETFROM:-0500
TZOFFSETTO:-0600
RDATE:20261101T020000
END:STANDARD
BEGIN:DAYLIGHT
TZNAME:CDT
DTSTART:20260308T020000
TZOFFSETFROM:-0600
TZOFFSETTO:-0500
RDATE:20270314T020000
END:DAYLIGHT
END:VTIMEZONE
BEGIN:VEVENT
UID:3dfc2a86-3ea0-4987-8c16-afa5cbfc4ff5
DTSTAMP:20260424T092004Z
DESCRIPTION:Vet2Vet Meeting and Movie Night every Thursday contact Bryon fo
 r more information.
DTSTART;TZID=America/Chicago:20260430T180000
DTEND;TZID=America/Chicago:20260430T180000
LOCATION:111 Broadway \, Newburgh\, NY 12550 US
SUMMARY:Vet2Vet Meeting and Move Night
END:VEVENT
END:VCALENDAR
