BEGIN:VCALENDAR
VERSION:2.0
PRODID:-//mhaorangeny.com//NONSGML kigkonsult.se iCalcreator 2.30.10//
CALSCALE:GREGORIAN
METHOD:PUBLISH
UID:a599b720-d382-404d-b2c2-4125a69c7ddb
X-WR-CALDESC:Weekly gathering of Veterans at Gallery Billiards in Newburgh.
X-WR-RELCALID:8cc7887b9d711a428296c5ea153b4003
X-WR-TIMEZONE:America/Chicago
BEGIN:VTIMEZONE
TZID:America/Chicago
BEGIN:STANDARD
TZNAME:CST
DTSTART:20251102T020000
TZOFFSETFROM:-0500
TZOFFSETTO:-0600
RDATE:20261101T020000
END:STANDARD
BEGIN:DAYLIGHT
TZNAME:CDT
DTSTART:20250309T020000
TZOFFSETFROM:-0600
TZOFFSETTO:-0500
RDATE:20260308T020000
RDATE:20270314T020000
END:DAYLIGHT
END:VTIMEZONE
BEGIN:VEVENT
UID:b386c3c3-0c42-45d1-b47e-2d54d34f71f3
DTSTAMP:20260425T025235Z
DESCRIPTION:Weekly gathering of Veterans at Gallery Billiards in Newburgh.
DTSTART;TZID=America/Chicago:20260203T123000
DTEND;TZID=America/Chicago:20260203T140000
LOCATION:154 North Plank Road\, Newburgh\, NY 12550 US
SUMMARY:Vet2Vet Billiards
END:VEVENT
END:VCALENDAR
