BEGIN:VCALENDAR
VERSION:2.0
PRODID:-//mhaorangeny.com//NONSGML kigkonsult.se iCalcreator 2.30.10//
CALSCALE:GREGORIAN
METHOD:PUBLISH
UID:9319577b-180f-4360-b853-6a8a755800ca
X-WR-CALDESC:A support group for ages 12-17 who have been effected by suici
 de.
X-WR-RELCALID:d37e0f515389eed2bbcf5977d9d105be
X-WR-TIMEZONE:America/Chicago
BEGIN:VTIMEZONE
TZID:America/Chicago
BEGIN:STANDARD
TZNAME:CST
DTSTART:20251102T020000
TZOFFSETFROM:-0500
TZOFFSETTO:-0600
RDATE:20261101T020000
END:STANDARD
BEGIN:DAYLIGHT
TZNAME:CDT
DTSTART:20250309T020000
TZOFFSETFROM:-0600
TZOFFSETTO:-0500
RDATE:20260308T020000
RDATE:20270314T020000
END:DAYLIGHT
END:VTIMEZONE
BEGIN:VEVENT
UID:bf081805-8d1e-4da4-ac6a-8344a83c22bf
DTSTAMP:20260424T230520Z
DESCRIPTION:A support group for ages 12-17 who have been effected by suicid
 e.
DTSTART;TZID=America/Chicago:20251202T060000
DTEND;TZID=America/Chicago:20251202T193000
LOCATION:73 James P Kelly\, Middletown\, NY 10916 US
SUMMARY:Teen Suicide Group
END:VEVENT
END:VCALENDAR
