BEGIN:VCALENDAR
VERSION:2.0
PRODID:-//mhaorangeny.com//NONSGML kigkonsult.se iCalcreator 2.30.10//
CALSCALE:GREGORIAN
METHOD:PUBLISH
UID:8f265a1e-6de2-4cc8-97d2-2288b1098a0a
X-WR-CALDESC:Come join us for a family support group to help you navigate t
 he OPWDD system and find your people! \nRegister here!  https://buff.ly/iU
 fUoOP
X-WR-RELCALID:ed95a9f7b619610df6f204bbf958ce24
X-WR-TIMEZONE:America/Chicago
BEGIN:VTIMEZONE
TZID:America/Chicago
BEGIN:STANDARD
TZNAME:CST
DTSTART:20241103T020000
TZOFFSETFROM:-0500
TZOFFSETTO:-0600
RDATE:20251102T020000
RDATE:20261101T020000
END:STANDARD
BEGIN:DAYLIGHT
TZNAME:CDT
DTSTART:20250309T020000
TZOFFSETFROM:-0600
TZOFFSETTO:-0500
RDATE:20260308T020000
RDATE:20270314T020000
END:DAYLIGHT
END:VTIMEZONE
BEGIN:VEVENT
UID:b201fdbc-edc7-4f19-94a6-8c1b69887657
DTSTAMP:20260424T212944Z
DESCRIPTION:Come join us for a family support group to help you navigate th
 e OPWDD system and find your people! \nRegister here!  https://buff.ly/iUf
 UoOP
DTSTART;TZID=America/Chicago:20251103T173000
DTEND;TZID=America/Chicago:20251103T183000
LOCATION:73 James P. Kelly Way\, Middletown\, NY 10940 US
SUMMARY:OPWDD Family Support and Resource Group
END:VEVENT
END:VCALENDAR
