BEGIN:VCALENDAR
VERSION:2.0
PRODID:-//mhaorangeny.com//NONSGML kigkonsult.se iCalcreator 2.30.10//
CALSCALE:GREGORIAN
METHOD:PUBLISH
UID:5f6e6f1b-747c-41d8-b73f-19c544c4f815
X-WR-CALDESC:
X-WR-RELCALID:1ac605bd2539c0969850811d21c83049
X-WR-TIMEZONE:America/Chicago
BEGIN:VTIMEZONE
TZID:America/Chicago
BEGIN:STANDARD
TZNAME:CST
DTSTART:20241103T020000
TZOFFSETFROM:-0500
TZOFFSETTO:-0600
RDATE:20251102T020000
RDATE:20261101T020000
END:STANDARD
BEGIN:DAYLIGHT
TZNAME:CDT
DTSTART:20250309T020000
TZOFFSETFROM:-0600
TZOFFSETTO:-0500
RDATE:20260308T020000
RDATE:20270314T020000
END:DAYLIGHT
END:VTIMEZONE
BEGIN:VEVENT
UID:a3585b05-e617-4670-820a-7845c5f201ae
DTSTAMP:20260424T193605Z
DESCRIPTION:
DTSTART;TZID=America/Chicago:20251021T100000
DTEND;TZID=America/Chicago:20251021T140000
LOCATION:Broadway Green Lot\, 128 Broadway \, Newburgh \, NY 12550 US
SUMMARY:Healthy Orange Farmer's Market
END:VEVENT
END:VCALENDAR
