BEGIN:VCALENDAR
VERSION:2.0
PRODID:-//mhaorangeny.com//NONSGML kigkonsult.se iCalcreator 2.30.10//
CALSCALE:GREGORIAN
METHOD:PUBLISH
UID:65dd2dc9-25c5-4203-b939-41f2228449c7
X-WR-CALDESC:A support group for ages 12-17 who have been effected by suici
 de.
X-WR-RELCALID:be201658ef73c2141a2ce254016ba801
X-WR-TIMEZONE:America/Chicago
BEGIN:VTIMEZONE
TZID:America/Chicago
BEGIN:STANDARD
TZNAME:CST
DTSTART:20241103T020000
TZOFFSETFROM:-0500
TZOFFSETTO:-0600
RDATE:20251102T020000
RDATE:20261101T020000
END:STANDARD
BEGIN:DAYLIGHT
TZNAME:CDT
DTSTART:20250309T020000
TZOFFSETFROM:-0600
TZOFFSETTO:-0500
RDATE:20260308T020000
RDATE:20270314T020000
END:DAYLIGHT
END:VTIMEZONE
BEGIN:VEVENT
UID:b163d074-7fc6-40e5-ab5b-452c8d624d83
DTSTAMP:20260424T192023Z
DESCRIPTION:A support group for ages 12-17 who have been effected by suicid
 e.
DTSTART;TZID=America/Chicago:20251007T060000
DTEND;TZID=America/Chicago:20251007T193000
LOCATION:73 James P Kelly\, Middletown\, NY 10916 US
SUMMARY:Teen Suicide Group
END:VEVENT
END:VCALENDAR
