BEGIN:VCALENDAR
VERSION:2.0
PRODID:-//mhaorangeny.com//NONSGML kigkonsult.se iCalcreator 2.30.10//
CALSCALE:GREGORIAN
METHOD:PUBLISH
UID:59799cf4-71b5-48a2-b3d7-eadf450791e7
X-WR-CALDESC:Come join us for a family support group to help you navigate t
 he OPWDD system and find your people! \nRegister here!  https://buff.ly/iU
 fUoOP
X-WR-RELCALID:8e74784eadf519c0251bee1d5013472d
X-WR-TIMEZONE:America/Chicago
BEGIN:VTIMEZONE
TZID:America/Chicago
BEGIN:STANDARD
TZNAME:CST
DTSTART:20241103T020000
TZOFFSETFROM:-0500
TZOFFSETTO:-0600
RDATE:20251102T020000
RDATE:20261101T020000
END:STANDARD
BEGIN:DAYLIGHT
TZNAME:CDT
DTSTART:20250309T020000
TZOFFSETFROM:-0600
TZOFFSETTO:-0500
RDATE:20260308T020000
RDATE:20270314T020000
END:DAYLIGHT
END:VTIMEZONE
BEGIN:VEVENT
UID:1b81c0a6-1634-4ef8-9001-34cef52408ce
DTSTAMP:20260424T191854Z
DESCRIPTION:Come join us for a family support group to help you navigate th
 e OPWDD system and find your people! \nRegister here!  https://buff.ly/iUf
 UoOP
DTSTART;TZID=America/Chicago:20251006T173000
DTEND;TZID=America/Chicago:20251006T183000
LOCATION:73 James P. Kelly Way\, Middletown\, NY 10940 US
SUMMARY:OPWDD Family Support and Resource Group
END:VEVENT
END:VCALENDAR
