BEGIN:VCALENDAR
VERSION:2.0
PRODID:-//mhaorangeny.com//NONSGML kigkonsult.se iCalcreator 2.30.10//
CALSCALE:GREGORIAN
METHOD:PUBLISH
UID:34c4e65c-a8d7-436a-8b6b-74eb70408ae1
X-WR-CALDESC:
X-WR-RELCALID:d386319ee404b3bafbde5f9cc1aee64a
X-WR-TIMEZONE:America/Chicago
BEGIN:VTIMEZONE
TZID:America/Chicago
BEGIN:STANDARD
TZNAME:CST
DTSTART:20241103T020000
TZOFFSETFROM:-0500
TZOFFSETTO:-0600
RDATE:20251102T020000
RDATE:20261101T020000
END:STANDARD
BEGIN:DAYLIGHT
TZNAME:CDT
DTSTART:20250309T020000
TZOFFSETFROM:-0600
TZOFFSETTO:-0500
RDATE:20260308T020000
RDATE:20270314T020000
END:DAYLIGHT
END:VTIMEZONE
BEGIN:VEVENT
UID:ed76e9ad-6234-4fb0-bbf1-e1811d3e05b9
DTSTAMP:20260424T193258Z
DESCRIPTION:
DTSTART;TZID=America/Chicago:20251005T110000
DTEND;TZID=America/Chicago:20251005T160000
LOCATION:Galleria at Crystal Run\, 1 Galleria Dr.\, Middletown \, NY 10940 
 US
SUMMARY:Middletown Lions Club Mental Health Awareness Day
END:VEVENT
END:VCALENDAR
