BEGIN:VCALENDAR
VERSION:2.0
PRODID:-//mhaorangeny.com//NONSGML kigkonsult.se iCalcreator 2.30.10//
CALSCALE:GREGORIAN
METHOD:PUBLISH
UID:43bc067e-d21a-44bf-aff9-cc5e29012e5c
X-WR-CALDESC:
X-WR-RELCALID:97419200fe9c561e6fe40b306ddb3810
X-WR-TIMEZONE:America/Chicago
BEGIN:VTIMEZONE
TZID:America/Chicago
BEGIN:STANDARD
TZNAME:CST
DTSTART:20241103T020000
TZOFFSETFROM:-0500
TZOFFSETTO:-0600
RDATE:20251102T020000
RDATE:20261101T020000
END:STANDARD
BEGIN:DAYLIGHT
TZNAME:CDT
DTSTART:20250309T020000
TZOFFSETFROM:-0600
TZOFFSETTO:-0500
RDATE:20260308T020000
RDATE:20270314T020000
END:DAYLIGHT
END:VTIMEZONE
BEGIN:VEVENT
UID:fccb0086-e5ca-428f-adf3-0cce08d9b2ea
DTSTAMP:20260424T173739Z
DESCRIPTION:
DTSTART;TZID=America/Chicago:20250927T100000
DTEND;TZID=America/Chicago:20250927T130000
LOCATION:Thrall Park Middletown
SUMMARY:Middletown Kids Day
END:VEVENT
END:VCALENDAR
