BEGIN:VCALENDAR
VERSION:2.0
PRODID:-//mhaorangeny.com//NONSGML kigkonsult.se iCalcreator 2.30.10//
CALSCALE:GREGORIAN
METHOD:PUBLISH
UID:9d1533c1-5b29-492c-8d89-15c4f98a088c
X-WR-CALDESC:Narcan distribution and training by ADAC for information on ho
 w to help someone who may be overdosing.
X-WR-RELCALID:34d60e9534e0978d8990cacf9c261d16
X-WR-TIMEZONE:America/Chicago
BEGIN:VTIMEZONE
TZID:America/Chicago
BEGIN:STANDARD
TZNAME:CST
DTSTART:20241103T020000
TZOFFSETFROM:-0500
TZOFFSETTO:-0600
RDATE:20251102T020000
RDATE:20261101T020000
END:STANDARD
BEGIN:DAYLIGHT
TZNAME:CDT
DTSTART:20250309T020000
TZOFFSETFROM:-0600
TZOFFSETTO:-0500
RDATE:20260308T020000
RDATE:20270314T020000
END:DAYLIGHT
END:VTIMEZONE
BEGIN:VEVENT
UID:3e2e4979-0596-4ed2-bb38-298b33336019
DTSTAMP:20260424T173719Z
DESCRIPTION:Narcan distribution and training by ADAC for information on how
  to help someone who may be overdosing.
DTSTART;TZID=America/Chicago:20250925T110000
DTEND;TZID=America/Chicago:20250925T140000
LOCATION:Middletown Thrall Library\, 11-19 Depot St.\, Middletown\, NY 1094
 0 US
SUMMARY:Save A Life Narcan Event
END:VEVENT
END:VCALENDAR
