BEGIN:VCALENDAR
VERSION:2.0
PRODID:-//mhaorangeny.com//NONSGML kigkonsult.se iCalcreator 2.30.10//
CALSCALE:GREGORIAN
METHOD:PUBLISH
UID:43c2829b-0622-4da0-a18c-21d41bcae147
X-WR-CALDESC:
X-WR-RELCALID:24ffa39bfef346937940cc54fa4508f1
X-WR-TIMEZONE:America/Chicago
BEGIN:VTIMEZONE
TZID:America/Chicago
BEGIN:STANDARD
TZNAME:CST
DTSTART:20241103T020000
TZOFFSETFROM:-0500
TZOFFSETTO:-0600
RDATE:20251102T020000
RDATE:20261101T020000
END:STANDARD
BEGIN:DAYLIGHT
TZNAME:CDT
DTSTART:20250309T020000
TZOFFSETFROM:-0600
TZOFFSETTO:-0500
RDATE:20260308T020000
RDATE:20270314T020000
END:DAYLIGHT
END:VTIMEZONE
BEGIN:VEVENT
UID:857e9d2b-30e6-49f5-ad35-c081c8b7bf6d
DTSTAMP:20260424T173611Z
DESCRIPTION:
DTSTART;TZID=America/Chicago:20250913T110000
DTEND;TZID=America/Chicago:20250913T210000
LOCATION:Mt. Hope Town Park\, 340 Finchville Turnpike\, Otisville\, NY 1096
 3 US
SUMMARY:Mt. Hope Bicentennial
END:VEVENT
END:VCALENDAR
