BEGIN:VCALENDAR
VERSION:2.0
PRODID:-//mhaorangeny.com//NONSGML kigkonsult.se iCalcreator 2.30.10//
CALSCALE:GREGORIAN
METHOD:PUBLISH
UID:b07267f6-46f0-4fde-8572-d59c87e04674
X-WR-CALDESC:
X-WR-RELCALID:56d42a4c359ba92dfb78abdb30c84ec6
X-WR-TIMEZONE:America/Chicago
BEGIN:VTIMEZONE
TZID:America/Chicago
BEGIN:STANDARD
TZNAME:CST
DTSTART:20241103T020000
TZOFFSETFROM:-0500
TZOFFSETTO:-0600
RDATE:20251102T020000
RDATE:20261101T020000
END:STANDARD
BEGIN:DAYLIGHT
TZNAME:CDT
DTSTART:20250309T020000
TZOFFSETFROM:-0600
TZOFFSETTO:-0500
RDATE:20260308T020000
END:DAYLIGHT
END:VTIMEZONE
BEGIN:VEVENT
UID:58d257ca-a0d5-451f-932d-fe0c9338630d
DTSTAMP:20260424T162618Z
DESCRIPTION:
DTSTART;TZID=America/Chicago:20250819T100000
DTEND;TZID=America/Chicago:20250819T140000
LOCATION:Broadway Green Lot\, 128 Broadway \, Newburgh \, NY 12550 US
SUMMARY:Healthy Orange Farmer's Market
END:VEVENT
END:VCALENDAR
