BEGIN:VCALENDAR
VERSION:2.0
PRODID:-//mhaorangeny.com//NONSGML kigkonsult.se iCalcreator 2.30.10//
CALSCALE:GREGORIAN
METHOD:PUBLISH
UID:f505fb9a-a508-4f61-a1ca-1d0f1b214dd4
X-WR-CALDESC:
X-WR-RELCALID:1b7c9d0b35886f4ea2b07369d78fc400
X-WR-TIMEZONE:America/Chicago
BEGIN:VTIMEZONE
TZID:America/Chicago
BEGIN:STANDARD
TZNAME:CST
DTSTART:20241103T020000
TZOFFSETFROM:-0500
TZOFFSETTO:-0600
RDATE:20251102T020000
RDATE:20261101T020000
END:STANDARD
BEGIN:DAYLIGHT
TZNAME:CDT
DTSTART:20250309T020000
TZOFFSETFROM:-0600
TZOFFSETTO:-0500
RDATE:20260308T020000
END:DAYLIGHT
END:VTIMEZONE
BEGIN:VEVENT
UID:7dadc9db-9ddd-4c88-a164-b5604391c58c
DTSTAMP:20260424T161025Z
DESCRIPTION:
DTSTART;TZID=America/Chicago:20250812T100000
DTEND;TZID=America/Chicago:20250812T140000
LOCATION:Broadway Green Lot\, 128 Broadway \, Newburgh \, NY 12550 US
SUMMARY:Healthy Orange Farmer's Market
END:VEVENT
END:VCALENDAR
