BEGIN:VCALENDAR
VERSION:2.0
PRODID:-//mhaorangeny.com//NONSGML kigkonsult.se iCalcreator 2.30.10//
CALSCALE:GREGORIAN
METHOD:PUBLISH
UID:a447ea64-f3f6-48b0-84f4-6cf3a0ec58a1
X-WR-CALDESC:
X-WR-RELCALID:823310beee902b9112fd51a81e8fabb1
X-WR-TIMEZONE:America/Chicago
BEGIN:VTIMEZONE
TZID:America/Chicago
BEGIN:STANDARD
TZNAME:CST
DTSTART:20241103T020000
TZOFFSETFROM:-0500
TZOFFSETTO:-0600
RDATE:20251102T020000
RDATE:20261101T020000
END:STANDARD
BEGIN:DAYLIGHT
TZNAME:CDT
DTSTART:20250309T020000
TZOFFSETFROM:-0600
TZOFFSETTO:-0500
RDATE:20260308T020000
END:DAYLIGHT
END:VTIMEZONE
BEGIN:VEVENT
UID:a9c6bdaf-1ae0-4bb2-9dee-38cbcd57d7b2
DTSTAMP:20260424T155421Z
DESCRIPTION:
DTSTART;TZID=America/Chicago:20250809T050000
DTEND;TZID=America/Chicago:20250809T050001
LOCATION:Renegades Stadium\, 1500 RT-9D\, Wappingers Falls\, NY 12590 US
SUMMARY:Veterans Appreciation Day Renegades Game
END:VEVENT
END:VCALENDAR
