BEGIN:VCALENDAR
VERSION:2.0
PRODID:-//mhaorangeny.com//NONSGML kigkonsult.se iCalcreator 2.30.10//
CALSCALE:GREGORIAN
METHOD:PUBLISH
UID:3781a908-7bda-4402-b584-a39e26894145
X-WR-CALDESC:Come join us for a family support group to help you navigate t
 he OPWDD system and find your people! \nRegister here!  https://buff.ly/iU
 fUoOP
X-WR-RELCALID:bd32d50509777738be79ce09e80f6ed5
X-WR-TIMEZONE:America/Chicago
BEGIN:VTIMEZONE
TZID:America/Chicago
BEGIN:STANDARD
TZNAME:CST
DTSTART:20241103T020000
TZOFFSETFROM:-0500
TZOFFSETTO:-0600
RDATE:20251102T020000
RDATE:20261101T020000
END:STANDARD
BEGIN:DAYLIGHT
TZNAME:CDT
DTSTART:20250309T020000
TZOFFSETFROM:-0600
TZOFFSETTO:-0500
RDATE:20260308T020000
END:DAYLIGHT
END:VTIMEZONE
BEGIN:VEVENT
UID:5b656e09-09b5-4a9a-9bee-109dee1a13a5
DTSTAMP:20260424T160340Z
DESCRIPTION:Come join us for a family support group to help you navigate th
 e OPWDD system and find your people! \nRegister here!  https://buff.ly/iUf
 UoOP
DTSTART;TZID=America/Chicago:20250804T173000
DTEND;TZID=America/Chicago:20250804T183000
LOCATION:73 James P. Kelly Way\, Middletown\, NY 10940 US
SUMMARY:OPWDD Family Support and Resource Group
END:VEVENT
END:VCALENDAR
