BEGIN:VCALENDAR
VERSION:2.0
PRODID:-//mhaorangeny.com//NONSGML kigkonsult.se iCalcreator 2.30.10//
CALSCALE:GREGORIAN
METHOD:PUBLISH
UID:fc990b36-8892-4483-ab9e-f1b64952311b
X-WR-CALDESC:
X-WR-RELCALID:6d9bb5cc6bba0ea3df2cacb84ac1e79e
X-WR-TIMEZONE:America/Chicago
BEGIN:VTIMEZONE
TZID:America/Chicago
BEGIN:STANDARD
TZNAME:CST
DTSTART:20241103T020000
TZOFFSETFROM:-0500
TZOFFSETTO:-0600
RDATE:20251102T020000
RDATE:20261101T020000
END:STANDARD
BEGIN:DAYLIGHT
TZNAME:CDT
DTSTART:20250309T020000
TZOFFSETFROM:-0600
TZOFFSETTO:-0500
RDATE:20260308T020000
END:DAYLIGHT
END:VTIMEZONE
BEGIN:VEVENT
UID:887b630f-cfda-4235-a2ba-f0cae3c9eb15
DTSTAMP:20260424T142147Z
DESCRIPTION:
DTSTART;TZID=America/Chicago:20250724T133000
DTEND;TZID=America/Chicago:20250724T143000
LOCATION:Legistrative Chamber - Orange County Government Center\, 255 Main 
 St. \, Goshen\, NY 10924 US
SUMMARY:ADA 35th Anniversary
END:VEVENT
END:VCALENDAR
