BEGIN:VCALENDAR
VERSION:2.0
PRODID:-//mhaorangeny.com//NONSGML kigkonsult.se iCalcreator 2.30.10//
CALSCALE:GREGORIAN
METHOD:PUBLISH
UID:c1a11bce-e9fd-4ad1-a7e3-118b8b491ee8
X-WR-CALDESC:Come join us for a family support group to help you navigate t
 he OPWDD system and find your people! \nRegister here!  https://buff.ly/iU
 fUoOP
X-WR-RELCALID:390b0c3afacb1ef9b1d33a6de04cc610
X-WR-TIMEZONE:America/Chicago
BEGIN:VTIMEZONE
TZID:America/Chicago
BEGIN:STANDARD
TZNAME:CST
DTSTART:20241103T020000
TZOFFSETFROM:-0500
TZOFFSETTO:-0600
RDATE:20251102T020000
RDATE:20261101T020000
END:STANDARD
BEGIN:DAYLIGHT
TZNAME:CDT
DTSTART:20250309T020000
TZOFFSETFROM:-0600
TZOFFSETTO:-0500
RDATE:20260308T020000
END:DAYLIGHT
END:VTIMEZONE
BEGIN:VEVENT
UID:b3497836-a46c-4823-8c5b-3ef04664fd72
DTSTAMP:20260424T143159Z
DESCRIPTION:Come join us for a family support group to help you navigate th
 e OPWDD system and find your people! \nRegister here!  https://buff.ly/iUf
 UoOP
DTSTART;TZID=America/Chicago:20250714T173000
DTEND;TZID=America/Chicago:20250714T183000
LOCATION:73 James P. Kelly Way\, Middletown\, NY 10940 US
SUMMARY:OPWDD Family Support and Resource Group
END:VEVENT
END:VCALENDAR
