BEGIN:VCALENDAR
VERSION:2.0
PRODID:-//mhaorangeny.com//NONSGML kigkonsult.se iCalcreator 2.30.10//
CALSCALE:GREGORIAN
METHOD:PUBLISH
UID:c680b263-b4b9-4838-a8ea-c9b492169360
X-WR-CALDESC:
X-WR-RELCALID:b8df21b981049cb21eb1dfb5e4e996f4
X-WR-TIMEZONE:America/Chicago
BEGIN:VTIMEZONE
TZID:America/Chicago
BEGIN:STANDARD
TZNAME:CST
DTSTART:20241103T020000
TZOFFSETFROM:-0500
TZOFFSETTO:-0600
RDATE:20251102T020000
RDATE:20261101T020000
END:STANDARD
BEGIN:DAYLIGHT
TZNAME:CDT
DTSTART:20250309T020000
TZOFFSETFROM:-0600
TZOFFSETTO:-0500
RDATE:20260308T020000
END:DAYLIGHT
END:VTIMEZONE
BEGIN:VEVENT
UID:6775511d-a19a-4d8f-80c3-6e62c878fa97
DTSTAMP:20260424T143256Z
DESCRIPTION:
DTSTART;TZID=America/Chicago:20250708T100000
DTEND;TZID=America/Chicago:20250708T140000
LOCATION:Broadway Green Lot\, 128 Broadway \, Newburgh \, NY 12550 US
SUMMARY:Healthy Orange Farmer's Market
END:VEVENT
END:VCALENDAR
