BEGIN:VCALENDAR
VERSION:2.0
PRODID:-//mhaorangeny.com//NONSGML kigkonsult.se iCalcreator 2.30.10//
CALSCALE:GREGORIAN
METHOD:PUBLISH
UID:a890d922-feb9-448e-b9d6-85590ea676e1
X-WR-CALDESC:Join us for a Red\, White and Blue evening filled with great f
 ood\, gratitude and lasting connections\, with all proceeds to benefit Vet
 2Vet! Vet2Vet\, a program of Mental Health Association in Orange County\, 
 works to offer peer led support\, groups and activities for our veterans a
 nd their families\, regardless of length of service or discharge status\, 
 throughout the county.\n\nhttps://threevillages.org/
X-WR-RELCALID:51e7d6e9f1339acf5f4967880be9061c
X-WR-TIMEZONE:America/Chicago
BEGIN:VTIMEZONE
TZID:America/Chicago
BEGIN:STANDARD
TZNAME:CST
DTSTART:20241103T020000
TZOFFSETFROM:-0500
TZOFFSETTO:-0600
RDATE:20251102T020000
RDATE:20261101T020000
END:STANDARD
BEGIN:DAYLIGHT
TZNAME:CDT
DTSTART:20250309T020000
TZOFFSETFROM:-0600
TZOFFSETTO:-0500
RDATE:20260308T020000
END:DAYLIGHT
END:VTIMEZONE
BEGIN:VEVENT
UID:6c06c016-a0c3-4fb4-b78f-6bb34c9384a8
DTSTAMP:20260424T142132Z
DESCRIPTION:Join us for a Red\, White and Blue evening filled with great fo
 od\, gratitude and lasting connections\, with all proceeds to benefit Vet2
 Vet! Vet2Vet\, a program of Mental Health Association in Orange County\, w
 orks to offer peer led support\, groups and activities for our veterans an
 d their families\, regardless of length of service or discharge status\, t
 hroughout the county.\n\nhttps://threevillages.org/
DTSTART;TZID=America/Chicago:20250702T173000
DTEND;TZID=America/Chicago:20250702T193000
LOCATION:City Winery\, 23 Factory St.\, Montgomery\, NY 10922 US
SUMMARY:Mix\, Mingle and Make a Difference
END:VEVENT
END:VCALENDAR
